BEGIN:VCALENDAR
VERSION:2.0
PRODID:-//Sol Invictus Vineyard - ECPv6.15.20//NONSGML v1.0//EN
CALSCALE:GREGORIAN
METHOD:PUBLISH
X-WR-CALNAME:Sol Invictus Vineyard
X-ORIGINAL-URL:https://www.solinvictusvineyard.com
X-WR-CALDESC:Events for Sol Invictus Vineyard
REFRESH-INTERVAL;VALUE=DURATION:PT1H
X-Robots-Tag:noindex
X-PUBLISHED-TTL:PT1H
BEGIN:VTIMEZONE
TZID:America/Boise
BEGIN:DAYLIGHT
TZOFFSETFROM:-0700
TZOFFSETTO:-0600
TZNAME:MDT
DTSTART:20250309T090000
END:DAYLIGHT
BEGIN:STANDARD
TZOFFSETFROM:-0600
TZOFFSETTO:-0700
TZNAME:MST
DTSTART:20251102T080000
END:STANDARD
BEGIN:DAYLIGHT
TZOFFSETFROM:-0700
TZOFFSETTO:-0600
TZNAME:MDT
DTSTART:20260308T090000
END:DAYLIGHT
BEGIN:STANDARD
TZOFFSETFROM:-0600
TZOFFSETTO:-0700
TZNAME:MST
DTSTART:20261101T080000
END:STANDARD
BEGIN:DAYLIGHT
TZOFFSETFROM:-0700
TZOFFSETTO:-0600
TZNAME:MDT
DTSTART:20270314T090000
END:DAYLIGHT
BEGIN:STANDARD
TZOFFSETFROM:-0600
TZOFFSETTO:-0700
TZNAME:MST
DTSTART:20271107T080000
END:STANDARD
END:VTIMEZONE
BEGIN:VEVENT
DTSTART;VALUE=DATE:20260601
DTEND;VALUE=DATE:20260701
DTSTAMP:20260422T160037
CREATED:20260114T173343Z
LAST-MODIFIED:20260114T173418Z
UID:1167-1780272000-1782863999@www.solinvictusvineyard.com
SUMMARY:Idaho Wine Month
DESCRIPTION:Sip\, Savor and Celebrate Idaho Wines and Ciders! \nIn June we proudly celebrate Idaho as a rapidly growing and nationally recognized wine and cider region. Our warm days\, cool nights and rich soil allow us to grow great grapes that produce exceptional wines. Delectable ciders from across the state are handcrafted from the tastiest apples\, plums\, pears and other high-quality local ingredients. \nEarly summer is the ideal time to explore Idaho’s unique award-winning wine and cider flavors!
URL:https://www.solinvictusvineyard.com/event/idaho-wine-month/
LOCATION:ID
END:VEVENT
BEGIN:VEVENT
DTSTART;VALUE=DATE:20260621
DTEND;VALUE=DATE:20260622
DTSTAMP:20260422T160037
CREATED:20260114T173001Z
LAST-MODIFIED:20260114T173001Z
UID:1165-1782000000-1782086399@www.solinvictusvineyard.com
SUMMARY:Father's Day in the Tasting Room
DESCRIPTION:💙 Father’s Day in the Tasting Room \nCheers to Dad! This Father’s Day\, every dad who visits our tasting room will receive a special gift in his honor. Treat him to a relaxing sip and make his day one to remember. 🍷🪵
URL:https://www.solinvictusvineyard.com/event/fathers-day-in-the-tasting-room/
LOCATION:ID
END:VEVENT
END:VCALENDAR