BEGIN:VCALENDAR
VERSION:2.0
PRODID:-//Sol Invictus Vineyard - ECPv6.15.20//NONSGML v1.0//EN
CALSCALE:GREGORIAN
METHOD:PUBLISH
X-WR-CALNAME:Sol Invictus Vineyard
X-ORIGINAL-URL:https://www.solinvictusvineyard.com
X-WR-CALDESC:Events for Sol Invictus Vineyard
REFRESH-INTERVAL;VALUE=DURATION:PT1H
X-Robots-Tag:noindex
X-PUBLISHED-TTL:PT1H
BEGIN:VTIMEZONE
TZID:America/Boise
BEGIN:DAYLIGHT
TZOFFSETFROM:-0700
TZOFFSETTO:-0600
TZNAME:MDT
DTSTART:20250309T090000
END:DAYLIGHT
BEGIN:STANDARD
TZOFFSETFROM:-0600
TZOFFSETTO:-0700
TZNAME:MST
DTSTART:20251102T080000
END:STANDARD
BEGIN:DAYLIGHT
TZOFFSETFROM:-0700
TZOFFSETTO:-0600
TZNAME:MDT
DTSTART:20260308T090000
END:DAYLIGHT
BEGIN:STANDARD
TZOFFSETFROM:-0600
TZOFFSETTO:-0700
TZNAME:MST
DTSTART:20261101T080000
END:STANDARD
BEGIN:DAYLIGHT
TZOFFSETFROM:-0700
TZOFFSETTO:-0600
TZNAME:MDT
DTSTART:20270314T090000
END:DAYLIGHT
BEGIN:STANDARD
TZOFFSETFROM:-0600
TZOFFSETTO:-0700
TZNAME:MST
DTSTART:20271107T080000
END:STANDARD
END:VTIMEZONE
BEGIN:VEVENT
DTSTART;VALUE=DATE:20260418
DTEND;VALUE=DATE:20260420
DTSTAMP:20260422T100403
CREATED:20260114T164837Z
LAST-MODIFIED:20260114T164837Z
UID:1161-1776470400-1776643199@www.solinvictusvineyard.com
SUMMARY:World Malbec Day
DESCRIPTION:🍇 World Malbec Day Weekend \nWe’re celebrating World Malbec Day all weekend long with special Malbec pours and perfectly paired bites. Join us Saturday and Sunday to sip\, savor and toast this bold\, crowd-favorite red. A delicious way to celebrate one of the world’s most loved wines! 🍷
URL:https://www.solinvictusvineyard.com/event/world-malbec-day/
LOCATION:ID
END:VEVENT
BEGIN:VEVENT
DTSTART;VALUE=DATE:20260328
DTEND;VALUE=DATE:20260330
DTSTAMP:20260422T100403
CREATED:20260114T162933Z
LAST-MODIFIED:20260114T162933Z
UID:1158-1774656000-1774828799@www.solinvictusvineyard.com
SUMMARY:1st Wine Club Release of 2026
DESCRIPTION:Be the first to taste our first 2026 Wine Club Release! Join us for an exclusive pour of our newest wines\, available only to club members and their guests. Enjoy first access\, special pricing and a relaxed tasting experience as we kick off a brand-new year of great wine. \nOur tasting room will remain open during regular business hours for all guests as well. 🥂
URL:https://www.solinvictusvineyard.com/event/1st-wine-club-release-of-2026/
LOCATION:ID
END:VEVENT
BEGIN:VEVENT
DTSTART;TZID=America/Boise:20260307T120000
DTEND;TZID=America/Boise:20260308T190000
DTSTAMP:20260422T100403
CREATED:20260113T235046Z
LAST-MODIFIED:20260113T235046Z
UID:1154-1772884800-1772996400@www.solinvictusvineyard.com
SUMMARY:Winter Wine Weekends: Tropical Escape
DESCRIPTION:Trade winter for island vibes with a sneak peek of our new Rosé\, a four-wine tropical flight\, and bright\, sunny snack pairings that feel like a mini getaway. 🌴🍍🍷
URL:https://www.solinvictusvineyard.com/event/winter-wine-weekends-tropical-escape/
LOCATION:ID
END:VEVENT
BEGIN:VEVENT
DTSTART;VALUE=DATE:20260301
DTEND;VALUE=DATE:20260330
DTSTAMP:20260422T100403
CREATED:20260114T162312Z
LAST-MODIFIED:20260114T162312Z
UID:1157-1772323200-1774828799@www.solinvictusvineyard.com
SUMMARY:Wine Madness!
DESCRIPTION:🍷 WINE MADNESS: The Ultimate Red Wine Showdown \nLet the bottles battle it out! Join us for Wine Madness\, a head-to-head red wine tournament where you decide the champion. We’re pitting our favorite reds against each other in a customer-voted bracket\, and every sip brings us one step closer to crowning the ultimate crowd-pleaser. \nTaste\, compare\, and cast your vote as last year’s champ Malbec takes on our smooth Merlot\, spicy Tempranillo\, and more! Our red will go glass-to-glass in this fun tasting experience. Will a powerhouse red dominate the field—or will an underdog steal the spotlight?
URL:https://www.solinvictusvineyard.com/event/wine-madness/
LOCATION:ID
END:VEVENT
BEGIN:VEVENT
DTSTART;TZID=America/Boise:20260221T120000
DTEND;TZID=America/Boise:20260222T190000
DTSTAMP:20260422T100403
CREATED:20260113T235011Z
LAST-MODIFIED:20260113T235011Z
UID:1153-1771675200-1771786800@www.solinvictusvineyard.com
SUMMARY:Winter Wine Weekends: Say Cheese & Sip
DESCRIPTION:Get an exclusive first taste of our brand-new Cabernet Sauvignon\, featured in a four-wine flight paired with four carefully selected cheeses. 🧀🍷✨
URL:https://www.solinvictusvineyard.com/event/winter-wine-weekends-say-cheese-sip/
LOCATION:ID
END:VEVENT
BEGIN:VEVENT
DTSTART;TZID=America/Boise:20260214T120000
DTEND;TZID=America/Boise:20260214T190000
DTSTAMP:20260422T100403
CREATED:20260114T162009Z
LAST-MODIFIED:20260114T162009Z
UID:1156-1771070400-1771095600@www.solinvictusvineyard.com
SUMMARY:Feel the Love
DESCRIPTION:Enjoy a special valentines-themed charcuterie paired with your favorite wines.
URL:https://www.solinvictusvineyard.com/event/feel-the-love/
LOCATION:ID
END:VEVENT
BEGIN:VEVENT
DTSTART;TZID=America/Boise:20260207T120000
DTEND;TZID=America/Boise:20260208T190000
DTSTAMP:20260422T100403
CREATED:20260113T234929Z
LAST-MODIFIED:20260113T234929Z
UID:1152-1770465600-1770577200@www.solinvictusvineyard.com
SUMMARY:Winter Wine Weekends: Touchdown Tastings
DESCRIPTION:It’s game-day in the tasting room with a wine flight paired with four savory\, football-inspired snacks—jersey not required (but encouraged!). 🏈🍷🧀
URL:https://www.solinvictusvineyard.com/event/winter-wine-weekends-touchdown-tastings/
LOCATION:ID
END:VEVENT
BEGIN:VEVENT
DTSTART;TZID=America/Boise:20260124T120000
DTEND;TZID=America/Boise:20260125T190000
DTSTAMP:20260422T100403
CREATED:20260113T234837Z
LAST-MODIFIED:20260113T234837Z
UID:1151-1769256000-1769367600@www.solinvictusvineyard.com
SUMMARY:Winter Wine Weekends: Cozy & Classic Winter
DESCRIPTION:Warm up by the fire with our soup-and-sip pairing: a glass of Malbec with hearty chili or a glass of Pinot Gris with comforting chicken noodle soup — the perfect cozy winter combo. 🔥🍲🍷
URL:https://www.solinvictusvineyard.com/event/winter-wine-weekends-cozy-classic-winter/
LOCATION:ID
END:VEVENT
BEGIN:VEVENT
DTSTART;VALUE=DATE:20260101
DTEND;VALUE=DATE:20260201
DTSTAMP:20260422T100403
CREATED:20260113T234435Z
LAST-MODIFIED:20260114T162327Z
UID:1149-1767225600-1769903999@www.solinvictusvineyard.com
SUMMARY:Wet January Sale
DESCRIPTION:Welcome to WET JANUARY 🍷 \n🛒 40% OFF a full case for Wine Club members \n🛒 20% OFF a full case for non-members \n✔ Mix & match \n✔ No exclusions \n✔ Every wine qualifies \nStock the rack. Refill the cellar. Start the year properly. \n💥 Not a member? Join today and unlock 40% off instantly \nEnds January 31.
URL:https://www.solinvictusvineyard.com/event/wet-january-sale/
LOCATION:ID
END:VEVENT
END:VCALENDAR